BEGIN:VCALENDAR
VERSION:2.0
PRODID:-//MATERPLAT - ECPv6.2.9//NONSGML v1.0//EN
CALSCALE:GREGORIAN
METHOD:PUBLISH
X-WR-CALNAME:MATERPLAT
X-ORIGINAL-URL:https://materplat.dev-mat-imdea.org
X-WR-CALDESC:Eventos para MATERPLAT
REFRESH-INTERVAL;VALUE=DURATION:PT1H
X-Robots-Tag:noindex
X-PUBLISHED-TTL:PT1H
BEGIN:VTIMEZONE
TZID:Europe/Helsinki
BEGIN:DAYLIGHT
TZOFFSETFROM:+0200
TZOFFSETTO:+0300
TZNAME:EEST
DTSTART:20170326T010000
END:DAYLIGHT
BEGIN:STANDARD
TZOFFSETFROM:+0300
TZOFFSETTO:+0200
TZNAME:EET
DTSTART:20171029T010000
END:STANDARD
END:VTIMEZONE
BEGIN:VEVENT
DTSTART;VALUE=DATE:20170927
DTEND;VALUE=DATE:20170928
DTSTAMP:20260419T153730
CREATED:20170911T142043Z
LAST-MODIFIED:20170911T142416Z
UID:10000236-1506470400-1506556799@materplat.dev-mat-imdea.org
SUMMARY:Innovation Day 2017: "The opportunities of Circular Economy"
DESCRIPTION:El próximo día 27 de septiembre tendrá lugar en Eslovenia un evento sobre Economía Circular en el que se tratarán las tendencias\, posibilidades de innovación y productos/servicios que se pueden desarrollar con el enfoque de economía circular y en el que también se  presentarán las oportunidades de financiación de proyectos para el periodo 2018-2020. \nAdicionalmente habrá una brokerage session que ofrecerá la posibilidad de hacer networking\, encontrando nuevas posibilidades de cooperación para proyectos o negocios. \nPara ampliar información\, agenda y registro consultar en el siguiente enlace.
URL:https://materplat.dev-mat-imdea.org/evento/innovation-day-2017-the-opportunities-of-circular-economy/
LOCATION:Brdo pri Kranju Congress Centre\, Predoslje 39\, Liubliana\, 4000\, Eslovenia
GEO:46.272721;14.38063
X-APPLE-STRUCTURED-LOCATION;VALUE=URI;X-ADDRESS=Brdo pri Kranju Congress Centre Predoslje 39 Liubliana 4000 Eslovenia;X-APPLE-RADIUS=500;X-TITLE=Predoslje 39:geo:14.38063,46.272721
END:VEVENT
END:VCALENDAR