BEGIN:VCALENDAR
VERSION:2.0
PRODID:-//MATERPLAT - ECPv6.2.9//NONSGML v1.0//EN
CALSCALE:GREGORIAN
METHOD:PUBLISH
X-WR-CALNAME:MATERPLAT
X-ORIGINAL-URL:https://materplat.dev-mat-imdea.org
X-WR-CALDESC:Eventos para MATERPLAT
REFRESH-INTERVAL;VALUE=DURATION:PT1H
X-Robots-Tag:noindex
X-PUBLISHED-TTL:PT1H
BEGIN:VTIMEZONE
TZID:Europe/Helsinki
BEGIN:DAYLIGHT
TZOFFSETFROM:+0200
TZOFFSETTO:+0300
TZNAME:EEST
DTSTART:20200329T010000
END:DAYLIGHT
BEGIN:STANDARD
TZOFFSETFROM:+0300
TZOFFSETTO:+0200
TZNAME:EET
DTSTART:20201025T010000
END:STANDARD
END:VTIMEZONE
BEGIN:VEVENT
DTSTART;VALUE=DATE:20200929
DTEND;VALUE=DATE:20201003
DTSTAMP:20260420T081100
CREATED:20191213T130150Z
LAST-MODIFIED:20191213T130150Z
UID:10000535-1601337600-1601683199@materplat.dev-mat-imdea.org
SUMMARY:XV Congreso Internacional de Propiedades Mecánicas de Sólidos
DESCRIPTION:El Congreso Internacional de Propiedades Mecánicas de Sólidos ha sido\, desde sus inicios en el año 1989\, un Congreso especial en el ámbito de los materiales\, centrándose en particular\, en aquellas propiedades que garantizan el éxito de un material desde el mineral hasta la pieza final y profundizando\, por lo tanto\, en el conocimiento de dichas características que optimizan la producción y la comercialización. \nEste Congreso nace con la idea fundamental de ser el punto de encuentro en el cual confluyan todas las personas o entidades\, ya sean del ámbito investigador o empresarial\, relacionadas directamente con los materiales\, fomentando por lo tanto las relaciones entre empresas e investigadores unidos por un mismo fin y poniendo énfasis en la participación de investigadores jóvenes con ideas nuevas que puedan expresarse con total confianza. \nLa edición de 2020 abarcará todos los diferentes tipos de materiales\, así como los nuevos procesos industriales subyacentes necesarios para el conocimiento y procesado de los mismos; siendo las áreas temáticas propuestas las que se detallan a continuación: \n– Materiales metálicos.\n– Materiales cerámicos.\n– Materiales poliméricos.\n– Materiales compuestos.\n– Materiales nanoestructurados.\n– Fabricación aditiva.\n– Economía circular. \nMás información en la web del evento
URL:https://materplat.dev-mat-imdea.org/evento/xv-congreso-internacional-de-propiedades-mecanicas-de-solidos/
LOCATION:Campus Científico-Tecnológico de Linares\, Ronda Sur s/n Campus\, SG-318\, Linares\, Jaén\, 23700\, España
GEO:38.0855101;-3.6449449
X-APPLE-STRUCTURED-LOCATION;VALUE=URI;X-ADDRESS=Campus Científico-Tecnológico de Linares Ronda Sur s/n Campus SG-318 Linares Jaén 23700 España;X-APPLE-RADIUS=500;X-TITLE=Ronda Sur s/n Campus\, SG-318:geo:-3.6449449,38.0855101
END:VEVENT
END:VCALENDAR