BEGIN:VCALENDAR
VERSION:2.0
PRODID:-//MATERPLAT - ECPv6.2.9//NONSGML v1.0//EN
CALSCALE:GREGORIAN
METHOD:PUBLISH
X-ORIGINAL-URL:https://materplat.dev-mat-imdea.org
X-WR-CALDESC:Eventos para MATERPLAT
REFRESH-INTERVAL;VALUE=DURATION:PT1H
X-Robots-Tag:noindex
X-PUBLISHED-TTL:PT1H
BEGIN:VTIMEZONE
TZID:Europe/Helsinki
BEGIN:DAYLIGHT
TZOFFSETFROM:+0200
TZOFFSETTO:+0300
TZNAME:EEST
DTSTART:20170326T010000
END:DAYLIGHT
BEGIN:STANDARD
TZOFFSETFROM:+0300
TZOFFSETTO:+0200
TZNAME:EET
DTSTART:20171029T010000
END:STANDARD
END:VTIMEZONE
BEGIN:VEVENT
DTSTART;VALUE=DATE:20171003
DTEND;VALUE=DATE:20171007
DTSTAMP:20260420T020300
CREATED:20170728T103559Z
LAST-MODIFIED:20170728T103638Z
UID:10000200-1506988800-1507334399@materplat.dev-mat-imdea.org
SUMMARY:TRATERMAT 2017
DESCRIPTION:Entre los días 3 y 6 de Octubre de 2017 se celebrará en Linares (Jaén) el  la XV edición del Congreso Internacional de Tratamientos Térmicos y de Superficie\, TRATERMAT 2017. \nEl congreso TRATERMAT desde sus inicios ha sido el referente nacional en lo relativo los Tratamientos Térmicos y de Superficie. Nacido en 1984\, ha ido representado el desarrollo a nivel investigador e industrial\, mostrándose como el punto de encuentro ideal para la colaboración de las distintas entidades relacionadas con esta actividad. \nLa amplia temática desarrollada en torno a este Congreso crea interés a investigadores\, especialistas e instituciones\, fluyendo sinergias por parte de todos los entes participantes. \nEn esta ocasión\, al Congreso se le ha dado un ámbito internacional con el objetivo de profundizar en las relaciones con especialistas en estas temáticas de otros países y continentes. \nEl desarrollo del Congreso TRATERMAT tendrá lugar en el Campus Científico y Tecnológico de Linares donde CETEMET tiene su sede principal. En dicho Campus está ubicada la Escuela Politécnica Superior de Linares perteneciente a la Universidad de Jaén\, por lo que es una oportunidad perfecta para que los estudiantes de Grado\, Máster y Doctorado puedan participar del Congreso y tengan su primera experiencia en este ámbito. \nTRATERMAT 2017 estará centrado en las siguientes áreas temáticas: \n \n 
URL:https://materplat.dev-mat-imdea.org/evento/tratermat-2017/
LOCATION:CETEMET\, Parque Empresarial Santana\, Avda. 1º de Mayo\, s/n\, Linares\, Jaén\, 23700 \, España
GEO:38.1049638;-3.6239218
X-APPLE-STRUCTURED-LOCATION;VALUE=URI;X-ADDRESS=CETEMET Parque Empresarial Santana Avda. 1º de Mayo s/n Linares Jaén 23700  España;X-APPLE-RADIUS=500;X-TITLE=Parque Empresarial Santana\, Avda. 1º de Mayo\, s/n:geo:-3.6239218,38.1049638
END:VEVENT
END:VCALENDAR