BEGIN:VCALENDAR
VERSION:2.0
PRODID:-//MATERPLAT - ECPv6.2.9//NONSGML v1.0//EN
CALSCALE:GREGORIAN
METHOD:PUBLISH
X-ORIGINAL-URL:https://materplat.dev-mat-imdea.org
X-WR-CALDESC:Eventos para MATERPLAT
REFRESH-INTERVAL;VALUE=DURATION:PT1H
X-Robots-Tag:noindex
X-PUBLISHED-TTL:PT1H
BEGIN:VTIMEZONE
TZID:Europe/Helsinki
BEGIN:DAYLIGHT
TZOFFSETFROM:+0200
TZOFFSETTO:+0300
TZNAME:EEST
DTSTART:20170326T010000
END:DAYLIGHT
BEGIN:STANDARD
TZOFFSETFROM:+0300
TZOFFSETTO:+0200
TZNAME:EET
DTSTART:20171029T010000
END:STANDARD
END:VTIMEZONE
BEGIN:VEVENT
DTSTART;VALUE=DATE:20170925
DTEND;VALUE=DATE:20170930
DTSTAMP:20260419T154536
CREATED:20170822T080154Z
LAST-MODIFIED:20170822T080154Z
UID:10000174-1506297600-1506729599@materplat.dev-mat-imdea.org
SUMMARY:Graphene week
DESCRIPTION:Desde la primera edición\, celebrada en el año 2006\, la Graphene Week es la reunión anual de referencia para los principales expertos internacionales en grafeno y materiales bi-dimensionales\, constituyéndose como la conferencia más influyente de Europa en este ámbito. La conferencia\, organizada por la Graphene Flagship\, busca presentar los resultados científicos más recientes\, así como promover interesantes actividades de networking y de exhibición. \nLa Graphene Week es uno de los eventos principales de la iniciativa Future & Emerging Technologies («FET») Flagship de la Comisión Europea\, un nuevo modelo de asociación a largo plazo para la investigación colaborativa en Europa. \nLa inscripción a la Graphene Week está abierta hasta el día 12 de septiembre y puede realizarse a través del siguiente link: REGISTRO \n 
URL:https://materplat.dev-mat-imdea.org/evento/graphene-week/
LOCATION:Divani Caravel Hotel\, Vassileos Alexandrou 2\, Atenas\, 16121\, Grecia
GEO:37.9734098;23.7514133
X-APPLE-STRUCTURED-LOCATION;VALUE=URI;X-ADDRESS=Divani Caravel Hotel Vassileos Alexandrou 2 Atenas 16121 Grecia;X-APPLE-RADIUS=500;X-TITLE=Vassileos Alexandrou 2:geo:23.7514133,37.9734098
END:VEVENT
END:VCALENDAR