BEGIN:VCALENDAR
VERSION:2.0
PRODID:-//MATERPLAT - ECPv6.2.9//NONSGML v1.0//EN
CALSCALE:GREGORIAN
METHOD:PUBLISH
X-WR-CALNAME:MATERPLAT
X-ORIGINAL-URL:https://materplat.dev-mat-imdea.org
X-WR-CALDESC:Eventos para MATERPLAT
REFRESH-INTERVAL;VALUE=DURATION:PT1H
X-Robots-Tag:noindex
X-PUBLISHED-TTL:PT1H
BEGIN:VTIMEZONE
TZID:Europe/Helsinki
BEGIN:DAYLIGHT
TZOFFSETFROM:+0200
TZOFFSETTO:+0300
TZNAME:EEST
DTSTART:20210328T010000
END:DAYLIGHT
BEGIN:STANDARD
TZOFFSETFROM:+0300
TZOFFSETTO:+0200
TZNAME:EET
DTSTART:20211031T010000
END:STANDARD
END:VTIMEZONE
BEGIN:VEVENT
DTSTART;VALUE=DATE:20211124
DTEND;VALUE=DATE:20211126
DTSTAMP:20260419T155635
CREATED:20210616T144222Z
LAST-MODIFIED:20210616T145646Z
UID:10000689-1637712000-1637884799@materplat.dev-mat-imdea.org
SUMMARY:I Seminario Internacional de Reciclado de Plásticos
DESCRIPTION:AIMPLAS lanza la I edición del Seminario Internacional de Reciclado de Plásticos que tendrá lugar el 24 y 25 de noviembre en formato híbrido. \nContará con la presencia de ponentes de empresas como RIGK\, BYK\, TPL\, BASF o  KELLER  & HECKMAN y se tratarán los retos y oportunidades actuales relacionados con la gestión y reciclado de los residuos plásticos\, además de dar a conocer todas las iniciativas que se están poniendo en marcha a nivel internacional para alcanzar los objetivos marcados a nivel europeo. \nConsulta el programa aquí y si estás interesado ya puedes reservar tu plaza. \nEn este evento se contará también con una sesión de pósters sobre proyectos científicos\, que se situarán en la zona networking. Puedes presentar tu propuesta hasta el 30 de julio aquí. \nMás información.
URL:https://materplat.dev-mat-imdea.org/evento/11259/
LOCATION:Escuela de Negocios Lluís Vives de Cámara Valencia\, Parc Tecnològic España\, Av. Benjamín Franklin\, 8\, Paterna\, Valencia\, Valencia\, 46980\, España
GEO:39.5470509;-0.459287
X-APPLE-STRUCTURED-LOCATION;VALUE=URI;X-ADDRESS=Escuela de Negocios Lluís Vives de Cámara Valencia Parc Tecnològic España Av. Benjamín Franklin 8 Paterna Valencia Valencia 46980 España;X-APPLE-RADIUS=500;X-TITLE=Parc Tecnològic España\, Av. Benjamín Franklin\, 8:geo:-0.459287,39.5470509
END:VEVENT
END:VCALENDAR