BEGIN:VCALENDAR
VERSION:2.0
PRODID:-//MATERPLAT - ECPv6.2.9//NONSGML v1.0//EN
CALSCALE:GREGORIAN
METHOD:PUBLISH
X-WR-CALNAME:MATERPLAT
X-ORIGINAL-URL:https://materplat.dev-mat-imdea.org
X-WR-CALDESC:Eventos para MATERPLAT
REFRESH-INTERVAL;VALUE=DURATION:PT1H
X-Robots-Tag:noindex
X-PUBLISHED-TTL:PT1H
BEGIN:VTIMEZONE
TZID:Europe/Helsinki
BEGIN:DAYLIGHT
TZOFFSETFROM:+0200
TZOFFSETTO:+0300
TZNAME:EEST
DTSTART:20170326T010000
END:DAYLIGHT
BEGIN:STANDARD
TZOFFSETFROM:+0300
TZOFFSETTO:+0200
TZNAME:EET
DTSTART:20171029T010000
END:STANDARD
END:VTIMEZONE
BEGIN:VEVENT
DTSTART;TZID=Europe/Helsinki:20170912T083000
DTEND;TZID=Europe/Helsinki:20170912T170000
DTSTAMP:20260419T173210
CREATED:20170727T093509Z
LAST-MODIFIED:20170727T093716Z
UID:10000205-1505205000-1505235600@materplat.dev-mat-imdea.org
SUMMARY:Exploring Additive Manufacturing impact in Defence capabilities
DESCRIPTION:On behalf of the European Defence Agency (EDA)\, in the framework of the project “Additive manufacturing feasibility study and technology demonstration”\, has the pleasure of inviting you to the EDA Exhibition “Exploring Additive Manufacturing impact in Defence capabilities”. The event will be held in Gijón (ES) on 12 September 2017. \n\n\nAdditive Manufacturing (AM) technologies have been identified as one of the key enabling technologies to improve European industrial competitiveness given its ability of rapid\, delocalised and flexible manufacturing. They are considered to empower the transition from mass production to mass customization in several leading sectors\, including\, among others\, automotive\, medical\, aeronautics\, energy and consumer goods. The defence sector\, however\, is not exploiting yet the full potential offered by AM technologies. \nThe aim of this exhibition is to raise awareness among the defence community and\, specifically\, to high level military staff\, on the capabilities that additive manufacturing technologies can bring to the defence sector and its potential for different applications. Examples on how the technology could change the way operations\, logistic support or maintenance are performed\, will be explained and showcased. Moreover\, attendees will have access to an exhibition during the event\, where EDA AM facility to be deployed in the EAATTC (European Advanced Airlift Tactics Training Course)\, equipment\, prototypes and real parts produced by additive manufacturing will be shown. Finally\, the conclusions of this EDA project\, including the equipment used and typical objects and materials produced during the deployment of the AM facility will be presented\, allowing participants to discuss about possible follow on activities. \nIf interested please\,  fill in the registration form at event web (at the bottom of the page). Registration ends the 5th September 2017. \n\n  \nSource | Prodintec
URL:https://materplat.dev-mat-imdea.org/evento/exploring-additive-manufacturing-impact-in-defence-capabilities/
LOCATION:Laboral City of Culture\, Calle Luis Moya Blanco\, 216\, Gijón\, Asturias\, 33203 \, España
GEO:43.5239787;-5.6122849
X-APPLE-STRUCTURED-LOCATION;VALUE=URI;X-ADDRESS=Laboral City of Culture Calle Luis Moya Blanco 216 Gijón Asturias 33203  España;X-APPLE-RADIUS=500;X-TITLE=Calle Luis Moya Blanco\, 216:geo:-5.6122849,43.5239787
END:VEVENT
END:VCALENDAR