BEGIN:VCALENDAR
VERSION:2.0
PRODID:-//MATERPLAT - ECPv6.2.9//NONSGML v1.0//EN
CALSCALE:GREGORIAN
METHOD:PUBLISH
X-WR-CALNAME:MATERPLAT
X-ORIGINAL-URL:https://materplat.dev-mat-imdea.org
X-WR-CALDESC:Eventos para MATERPLAT
REFRESH-INTERVAL;VALUE=DURATION:PT1H
X-Robots-Tag:noindex
X-PUBLISHED-TTL:PT1H
BEGIN:VTIMEZONE
TZID:Europe/Helsinki
BEGIN:DAYLIGHT
TZOFFSETFROM:+0200
TZOFFSETTO:+0300
TZNAME:EEST
DTSTART:20160327T010000
END:DAYLIGHT
BEGIN:STANDARD
TZOFFSETFROM:+0300
TZOFFSETTO:+0200
TZNAME:EET
DTSTART:20161030T010000
END:STANDARD
BEGIN:DAYLIGHT
TZOFFSETFROM:+0200
TZOFFSETTO:+0300
TZNAME:EEST
DTSTART:20170326T010000
END:DAYLIGHT
BEGIN:STANDARD
TZOFFSETFROM:+0300
TZOFFSETTO:+0200
TZNAME:EET
DTSTART:20171029T010000
END:STANDARD
END:VTIMEZONE
BEGIN:VEVENT
DTSTART;TZID=Europe/Helsinki:20170928T093000
DTEND;TZID=Europe/Helsinki:20170928T140000
DTSTAMP:20260419T155553
CREATED:20170728T102017Z
LAST-MODIFIED:20170728T102142Z
UID:10000210-1506591000-1506607200@materplat.dev-mat-imdea.org
SUMMARY:Jornada “ECONOMÍA CIRCULAR: Convocatoria Retos-Colaboración 2017”
DESCRIPTION:El Grupo Interplataformas de Economía Circular\, del cual forma parte MATERPLAT\, está promoviendo la Jornada “ECONOMÍA CIRCULAR: Convocatoria Retos-Colaboración 2017” para el día 28 de septiembre en la sede del Ministerio de Economía\, Industria y Competitividad (Paseo Castellana 162\, Madrid). \nEl objetivo principal de la jornada es promover la participación de investigadores y empresas en la convocatoria Retos-Colaboración 2017\, permitiendo: \n\nConocer los detalles de la convocatoria 2017 y resolver dudas\nConsultar o movilizar propuestas de proyectos en formación\, identificando socios potenciales\nPresentar públicamente la propuesta durante la Jornada (completar ficha adjunta)\n\n\n INSCRIPCIÓN\n  \nEl tiempo de intervención por idea de proyecto será de 5 minutos. El objetivo principal de este correo es informar de la celebración de la jornada así como informar acerca de la posibilidad de presentar ideas de proyecto durante el mismo.\nSi estuvieseis interesados en proponer y presentar alguna idea de proyecto\, os pedimos que nos hagáis llegar la ficha adjunta antes del 6 de septiembre. \nSe adjunta agenda provisional de la jornada. \nA partir del 15 de septiembre se comunicarán las ideas de proyecto que se presentarán durante la jornada. El resto de propuestas recibidas se agruparán de manera íntegra en un documento que se enviará a los interesados en el evento con los datos de contacto\, para favorecer la formación de consorcios dirigidos a la convocatoria Retos-Colaboración 2017[1]. \n————————————————————\n[1]Atención: Las fichas recibidas serán publicadas tal cual lleguen a las distintas Secretarías Técnicas. No incluya en las fichas ninguna información que no quiera que sea compartida y divulgada. \nComo información de interés\, aprovechamos para recordar que este Grupo de Economía Circular ha desarrollado una herramienta web\, “Conectando para una Economía Circular”\, accesible para todo interesado\, con el objetivo de que los usuarios puedan publicar y consultar información sobre los residuos generados por otros usuarios de distintos sectores industriales\, que además puedan ser utilizados como materia prima para otros procesos. La herramienta permite consultar información sobre proveedores de tecnologías dirigida a la valorización y reutilización de los mismos.
URL:https://materplat.dev-mat-imdea.org/evento/jornada-economia-circular-convocatoria-retos-colaboracion-2017/
LOCATION:Ministerio de Economía Industria y Competitividad\, Paseo de la Castellana\, 162  Madrid\, Madrid\, Madrid\, 28046
GEO:40.4583429;-3.6893451
X-APPLE-STRUCTURED-LOCATION;VALUE=URI;X-ADDRESS=Ministerio de Economía Industria y Competitividad Paseo de la Castellana 162  Madrid Madrid Madrid 28046;X-APPLE-RADIUS=500;X-TITLE=Paseo de la Castellana\, 162  Madrid:geo:-3.6893451,40.4583429
END:VEVENT
BEGIN:VEVENT
DTSTART;TZID=Europe/Helsinki:20161215T091500
DTEND;TZID=Europe/Helsinki:20161215T130000
DTSTAMP:20260419T155553
CREATED:20161205T083933Z
LAST-MODIFIED:20161205T083949Z
UID:10000001-1481793300-1481806800@materplat.dev-mat-imdea.org
SUMMARY:Colaboración Japón-España: Opportunities in Wind Offshore Energy
DESCRIPTION:El CDTI en colaboración con AEE y Reoltec\, organizan una sesión informativa sobre las oportunidades de colaboración con Japón en el sector eólico offshore. Para ello se contará con la participación de NEDO\, agencia japonesa de financiación de la I+D\, que nos presentará diversos proyectos ejecutados y financiados por METI y NEDO en diversas zonas\, entre ellas en Fukushima (http://www.fukushima-forward.jp/english/)\, así como sus previsiones a futuro. Tanto NEDO como METI manejan el presupuesto destinado al desarrollo del sector eólico en Japón\, que pretende triplicar su capacidad instalada hasta 2030\, por lo que se anima a participar en la jornada a todos los agentes\, empresas y asociaciones que pudieran jugar un papel en el desarrollo de la eólica offshore: empresas del sector eólico\, marítimo\, de infraestructuras\, navales\, proveedores\, etc… \nEl objeto de la jornada es\, a parte de conocer de primera mano la situación actual y planes del gobierno japonés\, plantear un plan de acción para 2017 que permita acercar las industrias japonesas y españolas\, a través de Misiones Tecnológicas con bolsa de viaje asociada\, para asistir a Ferias y posibles Workshops empresariales con empresas de ambos países. \nAquí puedes descargarte el programa del evento\, y en el siguiente link podrás formalizar tu inscripción: \nInscripción \nFuente | CDTI
URL:https://materplat.dev-mat-imdea.org/evento/colaboracion-japon-espana-opportunities-in-wind-offshore-energy/
LOCATION:Ministerio de Economía Industria y Competitividad\, Paseo de la Castellana\, 162  Madrid\, Madrid\, Madrid\, 28046
GEO:40.4583429;-3.6893451
X-APPLE-STRUCTURED-LOCATION;VALUE=URI;X-ADDRESS=Ministerio de Economía Industria y Competitividad Paseo de la Castellana 162  Madrid Madrid Madrid 28046;X-APPLE-RADIUS=500;X-TITLE=Paseo de la Castellana\, 162  Madrid:geo:-3.6893451,40.4583429
END:VEVENT
BEGIN:VEVENT
DTSTART;TZID=Europe/Helsinki:20161103T094500
DTEND;TZID=Europe/Helsinki:20161103T141500
DTSTAMP:20260419T155553
CREATED:20161010T161725Z
LAST-MODIFIED:20161010T161725Z
UID:10000075-1478166300-1478182500@materplat.dev-mat-imdea.org
SUMMARY:Jornada Informativa Innovative Training Networks (ITN) 2017 en Madrid
DESCRIPTION:El próximo jueves 3 de noviembre tendrá lugar en la sede del MINECO una jornada informativa sobre la Convocatoria Innovative Training Networks (ITN) 2017\, organizada por la Oficina Europea MINECO/FECYT en colaboración con la Fundación para el Conocimiento Madri+d. \nEn ella\, los Puntos Nacionales de Contacto Jesús Rojo y Cristina Gómez presentarán las novedades de la convocatoria ITN y se contarán con la presencia de coordinadores españoles de proyectos ITN financiados por H2020 que contarán su experiencia y punto de vista\, comentando aspectos concretos a tener en cuenta a la hora de preparar y gestionar un proyecto ITN \nAdemás\, también se realizará un taller práctico en el que se debatirá sobre la manera en que se deben redactar las partes Excelencia\, Impacto e Implementación de una propuesta ITN 2017. \nPinchando aquí puede encontrar la agenda del evento\, y en el siguiente link\, el formulario de inscripción: \nhttps://oficinaeuropea.fecyt.es/jornada-informativa-acciones-msca-convocatoria-innovative-training-networks-itn-2017
URL:https://materplat.dev-mat-imdea.org/evento/jornada-informativa-innovative-training-networks-itn-2017-madrid/
LOCATION:Ministerio de Economía Industria y Competitividad\, Paseo de la Castellana\, 162  Madrid\, Madrid\, Madrid\, 28046
GEO:40.4583429;-3.6893451
X-APPLE-STRUCTURED-LOCATION;VALUE=URI;X-ADDRESS=Ministerio de Economía Industria y Competitividad Paseo de la Castellana 162  Madrid Madrid Madrid 28046;X-APPLE-RADIUS=500;X-TITLE=Paseo de la Castellana\, 162  Madrid:geo:-3.6893451,40.4583429
END:VEVENT
BEGIN:VEVENT
DTSTART;TZID=Europe/Helsinki:20161004T093000
DTEND;TZID=Europe/Helsinki:20161004T173000
DTSTAMP:20260419T155553
CREATED:20160926T105629Z
LAST-MODIFIED:20160926T130923Z
UID:10000039-1475573400-1475602200@materplat.dev-mat-imdea.org
SUMMARY:EC Communication Campaign: Horizon 2020 Financial Rules
DESCRIPTION:Con el objetivo de profundizar sobre aspectos legales y financieros de las distintas convocatorias del programa Horizonte 2020\, el próximo 4 de Octubre se realizará una jornada de trabajo en la sede del Ministerio de Economía y Competitividad en Madrid. \nAparte del propio programa del evento\, en él se tratará de responder a preguntas dentro de una serie de temas\, que deberán ser formuladas por los asistentes con anterioridad al mismo\, a través de los enlaces correspondientes que se pueden encontrar en la siguiente página: \nhttp://www.eshorizonte2020.es/actualidad/eventos/ec-communication-campaign-horizon-2020-financial-rules \nPuede consultar aquí la agenda del evento.
URL:https://materplat.dev-mat-imdea.org/evento/ec-communication-campaign-horizon-2020-financial-rules/
LOCATION:Ministerio de Economía Industria y Competitividad\, Paseo de la Castellana\, 162  Madrid\, Madrid\, Madrid\, 28046
GEO:40.4583429;-3.6893451
X-APPLE-STRUCTURED-LOCATION;VALUE=URI;X-ADDRESS=Ministerio de Economía Industria y Competitividad Paseo de la Castellana 162  Madrid Madrid Madrid 28046;X-APPLE-RADIUS=500;X-TITLE=Paseo de la Castellana\, 162  Madrid:geo:-3.6893451,40.4583429
END:VEVENT
END:VCALENDAR