BEGIN:VCALENDAR
VERSION:2.0
PRODID:-//MATERPLAT - ECPv6.2.9//NONSGML v1.0//EN
CALSCALE:GREGORIAN
METHOD:PUBLISH
X-ORIGINAL-URL:https://materplat.dev-mat-imdea.org
X-WR-CALDESC:Eventos para MATERPLAT
REFRESH-INTERVAL;VALUE=DURATION:PT1H
X-Robots-Tag:noindex
X-PUBLISHED-TTL:PT1H
BEGIN:VTIMEZONE
TZID:Europe/Helsinki
BEGIN:DAYLIGHT
TZOFFSETFROM:+0200
TZOFFSETTO:+0300
TZNAME:EEST
DTSTART:20160327T010000
END:DAYLIGHT
BEGIN:STANDARD
TZOFFSETFROM:+0300
TZOFFSETTO:+0200
TZNAME:EET
DTSTART:20161030T010000
END:STANDARD
END:VTIMEZONE
BEGIN:VEVENT
DTSTART;TZID=Europe/Helsinki:20161004T093000
DTEND;TZID=Europe/Helsinki:20161004T173000
DTSTAMP:20260419T193444
CREATED:20160926T105629Z
LAST-MODIFIED:20160926T130923Z
UID:10000039-1475573400-1475602200@materplat.dev-mat-imdea.org
SUMMARY:EC Communication Campaign: Horizon 2020 Financial Rules
DESCRIPTION:Con el objetivo de profundizar sobre aspectos legales y financieros de las distintas convocatorias del programa Horizonte 2020\, el próximo 4 de Octubre se realizará una jornada de trabajo en la sede del Ministerio de Economía y Competitividad en Madrid. \nAparte del propio programa del evento\, en él se tratará de responder a preguntas dentro de una serie de temas\, que deberán ser formuladas por los asistentes con anterioridad al mismo\, a través de los enlaces correspondientes que se pueden encontrar en la siguiente página: \nhttp://www.eshorizonte2020.es/actualidad/eventos/ec-communication-campaign-horizon-2020-financial-rules \nPuede consultar aquí la agenda del evento.
URL:https://materplat.dev-mat-imdea.org/evento/ec-communication-campaign-horizon-2020-financial-rules/
LOCATION:Ministerio de Economía Industria y Competitividad\, Paseo de la Castellana\, 162  Madrid\, Madrid\, Madrid\, 28046
GEO:40.4583429;-3.6893451
X-APPLE-STRUCTURED-LOCATION;VALUE=URI;X-ADDRESS=Ministerio de Economía Industria y Competitividad Paseo de la Castellana 162  Madrid Madrid Madrid 28046;X-APPLE-RADIUS=500;X-TITLE=Paseo de la Castellana\, 162  Madrid:geo:-3.6893451,40.4583429
END:VEVENT
END:VCALENDAR